BEGIN:VCALENDAR
VERSION:2.0
PRODID:-//Alternatives to Violence of the Palouse - ECPv6.15.11//NONSGML v1.0//EN
CALSCALE:GREGORIAN
METHOD:PUBLISH
X-WR-CALNAME:Alternatives to Violence of the Palouse
X-ORIGINAL-URL:https://atvp.org
X-WR-CALDESC:Events for Alternatives to Violence of the Palouse
REFRESH-INTERVAL;VALUE=DURATION:PT1H
X-Robots-Tag:noindex
X-PUBLISHED-TTL:PT1H
BEGIN:VTIMEZONE
TZID:America/Los_Angeles
BEGIN:DAYLIGHT
TZOFFSETFROM:-0800
TZOFFSETTO:-0700
TZNAME:PDT
DTSTART:20240310T100000
END:DAYLIGHT
BEGIN:STANDARD
TZOFFSETFROM:-0700
TZOFFSETTO:-0800
TZNAME:PST
DTSTART:20241103T090000
END:STANDARD
BEGIN:DAYLIGHT
TZOFFSETFROM:-0800
TZOFFSETTO:-0700
TZNAME:PDT
DTSTART:20250309T100000
END:DAYLIGHT
BEGIN:STANDARD
TZOFFSETFROM:-0700
TZOFFSETTO:-0800
TZNAME:PST
DTSTART:20251102T090000
END:STANDARD
BEGIN:DAYLIGHT
TZOFFSETFROM:-0800
TZOFFSETTO:-0700
TZNAME:PDT
DTSTART:20260308T100000
END:DAYLIGHT
BEGIN:STANDARD
TZOFFSETFROM:-0700
TZOFFSETTO:-0800
TZNAME:PST
DTSTART:20261101T090000
END:STANDARD
END:VTIMEZONE
BEGIN:VEVENT
DTSTART;TZID=America/Los_Angeles:20250927T120000
DTEND;TZID=America/Los_Angeles:20250927T150000
DTSTAMP:20260421T120237
CREATED:20250825T211529Z
LAST-MODIFIED:20250826T155428Z
UID:1647-1758974400-1758985200@atvp.org
SUMMARY:Summer on the Patio Fundraiser
DESCRIPTION:
URL:https://atvp.org/event/mery-cellars-fundraiser/
LOCATION:Mery Cellars\, 1300 NE Henley Ct\, Pullman\, WA\, 99163\, United States
END:VEVENT
BEGIN:VEVENT
DTSTART;TZID=America/Los_Angeles:20250828T110000
DTEND;TZID=America/Los_Angeles:20250828T140000
DTSTAMP:20260421T120237
CREATED:20250807T160458Z
LAST-MODIFIED:20250807T160527Z
UID:1642-1756378800-1756389600@atvp.org
SUMMARY:University of Idaho Job Fair
DESCRIPTION:
URL:https://atvp.org/event/university-of-idaho-job-fair/
LOCATION:University of Idaho\, 875 Perimeter Dr\, Moscow\, ID\, 83844\, United States
END:VEVENT
BEGIN:VEVENT
DTSTART;TZID=America/Los_Angeles:20250823T173000
DTEND;TZID=America/Los_Angeles:20250823T193000
DTSTAMP:20260421T120237
CREATED:20250806T203457Z
LAST-MODIFIED:20250806T203457Z
UID:1638-1755970200-1755977400@atvp.org
SUMMARY:Palousafest
DESCRIPTION:
URL:https://atvp.org/event/palousafest/
LOCATION:University of Idaho\, 875 Perimeter Dr\, Moscow\, ID\, 83844\, United States
END:VEVENT
BEGIN:VEVENT
DTSTART;TZID=America/Los_Angeles:20250816T110000
DTEND;TZID=America/Los_Angeles:20250816T170000
DTSTAMP:20260421T120237
CREATED:20250729T182013Z
LAST-MODIFIED:20250729T182013Z
UID:1611-1755342000-1755363600@atvp.org
SUMMARY:Lentil Festival Parade
DESCRIPTION:
URL:https://atvp.org/event/lentil-festival-parade/
LOCATION:Lentil Festival\, Main Street\, Pu
END:VEVENT
BEGIN:VEVENT
DTSTART;TZID=America/Los_Angeles:20250807T160000
DTEND;TZID=America/Los_Angeles:20250807T190000
DTSTAMP:20260421T120237
CREATED:20250729T181703Z
LAST-MODIFIED:20250729T181703Z
UID:1608-1754582400-1754593200@atvp.org
SUMMARY:Colfax Farmers Market
DESCRIPTION:
URL:https://atvp.org/event/colfax-farmers-market/
LOCATION:Colfax Farmers Market\, 101 N MAIN ST. & SPRING ST. BETWEEN MAIN ST. & MILL ST.\, Colfax\, WA\, 99111\, United States
END:VEVENT
BEGIN:VEVENT
DTSTART;TZID=America/Los_Angeles:20250805T180000
DTEND;TZID=America/Los_Angeles:20250805T200000
DTSTAMP:20260421T120237
CREATED:20250729T183402Z
LAST-MODIFIED:20250729T183402Z
UID:1620-1754416800-1754424000@atvp.org
SUMMARY:National Night Out Pullman
DESCRIPTION:
URL:https://atvp.org/event/national-night-out-pullman/
LOCATION:Reaney Park\, 690 NE Reaney Way\, Pullman\, WA\, 99163\, United States
END:VEVENT
BEGIN:VEVENT
DTSTART;TZID=America/Los_Angeles:20250805T083000
DTEND;TZID=America/Los_Angeles:20250805T100000
DTSTAMP:20260421T120237
CREATED:20250729T181526Z
LAST-MODIFIED:20250729T181526Z
UID:1604-1754382600-1754388000@atvp.org
SUMMARY:Aquatic Center Outreach
DESCRIPTION:
URL:https://atvp.org/event/aquatic-center-outreach/
LOCATION:Pullman Aquatic Center\, 500 NW Greyhound Way\, Pullman\, WA\, 99163\, United States
END:VEVENT
BEGIN:VEVENT
DTSTART;TZID=America/Los_Angeles:20250801T140000
DTEND;TZID=America/Los_Angeles:20250801T160000
DTSTAMP:20260421T120237
CREATED:20250729T181035Z
LAST-MODIFIED:20250729T182111Z
UID:1595-1754056800-1754064000@atvp.org
SUMMARY:Reaney Park Pool Outreach
DESCRIPTION:
URL:https://atvp.org/event/reaney-park-pool-outreach/
LOCATION:Reaney Park Pool\, 460 NE Morton St\, Pullman\, WA\, 99163\, United States
END:VEVENT
END:VCALENDAR